BEGIN:VCALENDAR
VERSION:2.0
PRODID:-//Saginaw USBC - ECPv6.15.20//NONSGML v1.0//EN
CALSCALE:GREGORIAN
METHOD:PUBLISH
X-ORIGINAL-URL:https://saginawbowl.com
X-WR-CALDESC:Events for Saginaw USBC
REFRESH-INTERVAL;VALUE=DURATION:PT1H
X-Robots-Tag:noindex
X-PUBLISHED-TTL:PT1H
BEGIN:VTIMEZONE
TZID:UTC
BEGIN:STANDARD
TZOFFSETFROM:+0000
TZOFFSETTO:+0000
TZNAME:UTC
DTSTART:20240101T000000
END:STANDARD
END:VTIMEZONE
BEGIN:VEVENT
DTSTART;VALUE=DATE:20250813
DTEND;VALUE=DATE:20250814
DTSTAMP:20260417T001111
CREATED:20250408T231228Z
LAST-MODIFIED:20250410T171450Z
UID:3484-1755043200-1755129599@saginawbowl.com
SUMMARY:SAGINAW BOWLING ASSOC. ANNUAL MAT’L MEETING WITH LEAGUE SECRTARIES
DESCRIPTION:SAGINAW BOWLING ASSOC. WILL BE HOLDING ITS’ ANNUAL\nMAT’L MEETING WITH LEAGUE SECRETARIES TO PICK UP THEIR 2025-\n26 SUPPLIES FOR THE COMING YEAR. IT WILL BE HELD ON WEDS.\nAUG. 13 th \, AT CROOKED CREEK BANQUET CENTER LUNCHEON AT 6:30\, WITH MEETING AT 7:00P.\nMUST CONTACT RAY FAUBERT BY TO RSVP BY AUG.11\,2025
URL:https://saginawbowl.com/event/saginaw-bowling-assoc-annual-matl-meeting-with-league-secrtaries/
LOCATION:Crooked Creek Banquet Room
END:VEVENT
BEGIN:VEVENT
DTSTART;VALUE=DATE:20250815
DTEND;VALUE=DATE:20250816
DTSTAMP:20260417T001111
CREATED:20250408T231336Z
LAST-MODIFIED:20251208T230456Z
UID:3486-1755216000-1755302399@saginawbowl.com
SUMMARY:SAGINAW USBC YOUTH SCHOLARSHIP FUND RAISER
DESCRIPTION:SAT.\, AUG. 15TH\, 2026\, YOUTH SCHOLARSHIP FUND RAISER\nWILL BE HELD AT TWIN OAKS GC ON FREELAND RD. STARTS AT 9:00.\nGET INFO BY CLICKING ON FUND RAISER ON THIS WEBSSITE.\nOR CALL BARRY NELSON AT 989-751-4404\nPAT MAHONEY 989-295-8682\nRAY FAUBERT 989-295-9485 \n  \nTEAM RESERVATION APPLICATION – CLICK HERE \nDONATION AND SPONSORSHIP INFORMATION – CLICK HERE
URL:https://saginawbowl.com/event/saginaw-usbc-youth-scholarship-fund-raiser/
LOCATION:TWIN OAKS GC ON FREELAND RD.
END:VEVENT
END:VCALENDAR