BEGIN:VCALENDAR
VERSION:2.0
PRODID:-//Saginaw USBC - ECPv6.15.20//NONSGML v1.0//EN
CALSCALE:GREGORIAN
METHOD:PUBLISH
X-WR-CALNAME:Saginaw USBC
X-ORIGINAL-URL:https://saginawbowl.com
X-WR-CALDESC:Events for Saginaw USBC
REFRESH-INTERVAL;VALUE=DURATION:PT1H
X-Robots-Tag:noindex
X-PUBLISHED-TTL:PT1H
BEGIN:VTIMEZONE
TZID:UTC
BEGIN:STANDARD
TZOFFSETFROM:+0000
TZOFFSETTO:+0000
TZNAME:UTC
DTSTART:20240101T000000
END:STANDARD
END:VTIMEZONE
BEGIN:VEVENT
DTSTART;VALUE=DATE:20250427
DTEND;VALUE=DATE:20250428
DTSTAMP:20260416T235205
CREATED:20240826T022342Z
LAST-MODIFIED:20240826T022342Z
UID:3219-1745712000-1745798399@saginawbowl.com
SUMMARY:Women’s City Tournament
DESCRIPTION:Check in 10am\nand Start 11am\, Team Event on the 14th\, Singles on 21st\, $25 Per \nEvent @ Stardust \nApril 27th & May 4th 2025
URL:https://saginawbowl.com/event/womens-city-tournament/
LOCATION:Stardust\, 3750 Bay Rd\, Saginaw\, MI\, 48603\, United States
END:VEVENT
END:VCALENDAR