BEGIN:VCALENDAR
VERSION:2.0
PRODID:-//Saginaw USBC - ECPv6.15.20//NONSGML v1.0//EN
CALSCALE:GREGORIAN
METHOD:PUBLISH
X-WR-CALNAME:Saginaw USBC
X-ORIGINAL-URL:https://saginawbowl.com
X-WR-CALDESC:Events for Saginaw USBC
REFRESH-INTERVAL;VALUE=DURATION:PT1H
X-Robots-Tag:noindex
X-PUBLISHED-TTL:PT1H
BEGIN:VTIMEZONE
TZID:UTC
BEGIN:STANDARD
TZOFFSETFROM:+0000
TZOFFSETTO:+0000
TZNAME:UTC
DTSTART:20230101T000000
END:STANDARD
END:VTIMEZONE
BEGIN:VEVENT
DTSTART;VALUE=DATE:20241201
DTEND;VALUE=DATE:20241202
DTSTAMP:20260419T235418
CREATED:20240826T022059Z
LAST-MODIFIED:20240826T022059Z
UID:3211-1733011200-1733097599@saginawbowl.com
SUMMARY:Youth City Tournament
DESCRIPTION:4 Person\nAny Combo Team event check in 8am start 9am\, Doubles/Singles \nAny Combo\, Check in 12pm Start 1pm @ Stardust \nDecember 1st (8th if needed)
URL:https://saginawbowl.com/event/youth-city-tournament/
END:VEVENT
END:VCALENDAR