BEGIN:VCALENDAR
VERSION:2.0
PRODID:-//Saginaw USBC - ECPv6.15.20//NONSGML v1.0//EN
CALSCALE:GREGORIAN
METHOD:PUBLISH
X-WR-CALNAME:Saginaw USBC
X-ORIGINAL-URL:https://saginawbowl.com
X-WR-CALDESC:Events for Saginaw USBC
REFRESH-INTERVAL;VALUE=DURATION:PT1H
X-Robots-Tag:noindex
X-PUBLISHED-TTL:PT1H
BEGIN:VTIMEZONE
TZID:UTC
BEGIN:STANDARD
TZOFFSETFROM:+0000
TZOFFSETTO:+0000
TZNAME:UTC
DTSTART:20240101T000000
END:STANDARD
END:VTIMEZONE
BEGIN:VEVENT
DTSTART;VALUE=DATE:20250514
DTEND;VALUE=DATE:20250515
DTSTAMP:20260416T235638
CREATED:20250408T231046Z
LAST-MODIFIED:20250408T231046Z
UID:3482-1747180800-1747267199@saginawbowl.com
SUMMARY:SAGINAW BOWLING ASSOC. ANNUAL LEAGUE SECRETARIES MEETING
DESCRIPTION:SAGINAW BOWLING ASSOC. WILL BE HOLDING ITS’ ANNUAL\nLEAGUE SECRETARIES MEETING AT CROOK CREEK BANQUET CENTER\nON WEDS\, MAY 14 th \, ON GRATIOT RD AT 7:00p. SECRETARIES AND\nPRESIDENTS ARE INVITED.\nCONTACT RAY FAUBERT BY MAY 12 th FOR RESERVATIONS
URL:https://saginawbowl.com/event/saginaw-bowling-assoc-annual-league-secretaries-meeting/
LOCATION:Crooked Creek Banquet Room
END:VEVENT
END:VCALENDAR